BEGIN:VCALENDAR
VERSION:2.0
PRODID:-//cdtkids.com//NONSGML kigkonsult.se iCalcreator 2.30.10//
CALSCALE:GREGORIAN
METHOD:PUBLISH
UID:1499508b-984c-4cc5-99ce-1fd50a8894be
X-WR-CALDESC:
X-WR-RELCALID:8e56f0e34e8a32a0716330a53da59521
X-WR-TIMEZONE:America/Phoenix
BEGIN:VTIMEZONE
TZID:America/Phoenix
BEGIN:STANDARD
TZNAME:MST
DTSTART:20240308T070000
TZOFFSETFROM:+0000
TZOFFSETTO:-0700
END:STANDARD
END:VTIMEZONE
BEGIN:VEVENT
UID:8325250f-f2d7-46d2-831c-40079d9bdead
DTSTAMP:20260424T222306Z
DESCRIPTION:
DTSTART;TZID=America/Phoenix:20251208T163000
DTEND;TZID=America/Phoenix:20251208T180000
LOCATION:20025 East Germann Road\, Queen Creek\, AZ 85142 US
SUMMARY:Winter Wonderland Fundraiser
END:VEVENT
END:VCALENDAR
