BEGIN:VCALENDAR
VERSION:2.0
PRODID:-//cdtkids.com//NONSGML kigkonsult.se iCalcreator 2.30.10//
CALSCALE:GREGORIAN
METHOD:PUBLISH
UID:e230483e-ea80-4a24-a98d-664cc07bb3cf
X-WR-CALDESC:
X-WR-RELCALID:282bc7eb3ff4a17768cfd2e6e5fe2776
X-WR-TIMEZONE:America/Phoenix
BEGIN:VTIMEZONE
TZID:America/Phoenix
BEGIN:STANDARD
TZNAME:MST
DTSTART:20240129T070000
TZOFFSETFROM:+0000
TZOFFSETTO:-0700
END:STANDARD
END:VTIMEZONE
BEGIN:VEVENT
UID:6ca85ec7-1798-4153-b469-adb344e38845
DTSTAMP:20260425T011644Z
DESCRIPTION:
DTSTART;TZID=America/Phoenix:20251030T153000
DTEND;TZID=America/Phoenix:20251030T180000
LOCATION:20025 East Germann Road\, Queen Creek\, AZ 85142 US
SUMMARY:Halloween Fundraiser at The Barn
END:VEVENT
END:VCALENDAR
